BEGIN:VCALENDAR
VERSION:2.0
PRODID:-//TSV Fortuna Bergfeld - ECPv6.15.20//NONSGML v1.0//EN
CALSCALE:GREGORIAN
METHOD:PUBLISH
X-WR-CALNAME:TSV Fortuna Bergfeld
X-ORIGINAL-URL:https://tsvbergfeld.de
X-WR-CALDESC:Veranstaltungen für TSV Fortuna Bergfeld
REFRESH-INTERVAL;VALUE=DURATION:PT1H
X-Robots-Tag:noindex
X-PUBLISHED-TTL:PT1H
BEGIN:VTIMEZONE
TZID:Europe/Berlin
BEGIN:DAYLIGHT
TZOFFSETFROM:+0100
TZOFFSETTO:+0200
TZNAME:CEST
DTSTART:20250330T010000
END:DAYLIGHT
BEGIN:STANDARD
TZOFFSETFROM:+0200
TZOFFSETTO:+0100
TZNAME:CET
DTSTART:20251026T010000
END:STANDARD
BEGIN:DAYLIGHT
TZOFFSETFROM:+0100
TZOFFSETTO:+0200
TZNAME:CEST
DTSTART:20260329T010000
END:DAYLIGHT
BEGIN:STANDARD
TZOFFSETFROM:+0200
TZOFFSETTO:+0100
TZNAME:CET
DTSTART:20261025T010000
END:STANDARD
BEGIN:DAYLIGHT
TZOFFSETFROM:+0100
TZOFFSETTO:+0200
TZNAME:CEST
DTSTART:20270328T010000
END:DAYLIGHT
BEGIN:STANDARD
TZOFFSETFROM:+0200
TZOFFSETTO:+0100
TZNAME:CET
DTSTART:20271031T010000
END:STANDARD
END:VTIMEZONE
BEGIN:VEVENT
DTSTART;TZID=Europe/Berlin:20260407T200000
DTEND;TZID=Europe/Berlin:20260407T220000
DTSTAMP:20260424T131633
CREATED:20260102T120754Z
LAST-MODIFIED:20260207T085712Z
UID:5805-1775592000-1775599200@tsvbergfeld.de
SUMMARY:TT: Hankensbüttel VI - 4.  Herren
DESCRIPTION:
URL:https://tsvbergfeld.de/event/tt-hankensbuettel-vi-4-herren/
CATEGORIES:Tischtennis
END:VEVENT
END:VCALENDAR