BEGIN:VCALENDAR
VERSION:2.0
PRODID:-//TSV Fortuna Bergfeld - ECPv6.15.20//NONSGML v1.0//EN
CALSCALE:GREGORIAN
METHOD:PUBLISH
X-ORIGINAL-URL:https://tsvbergfeld.de
X-WR-CALDESC:Veranstaltungen für TSV Fortuna Bergfeld
REFRESH-INTERVAL;VALUE=DURATION:PT1H
X-Robots-Tag:noindex
X-PUBLISHED-TTL:PT1H
BEGIN:VTIMEZONE
TZID:Europe/Berlin
BEGIN:DAYLIGHT
TZOFFSETFROM:+0100
TZOFFSETTO:+0200
TZNAME:CEST
DTSTART:20250330T010000
END:DAYLIGHT
BEGIN:STANDARD
TZOFFSETFROM:+0200
TZOFFSETTO:+0100
TZNAME:CET
DTSTART:20251026T010000
END:STANDARD
BEGIN:DAYLIGHT
TZOFFSETFROM:+0100
TZOFFSETTO:+0200
TZNAME:CEST
DTSTART:20260329T010000
END:DAYLIGHT
BEGIN:STANDARD
TZOFFSETFROM:+0200
TZOFFSETTO:+0100
TZNAME:CET
DTSTART:20261025T010000
END:STANDARD
BEGIN:DAYLIGHT
TZOFFSETFROM:+0100
TZOFFSETTO:+0200
TZNAME:CEST
DTSTART:20270328T010000
END:DAYLIGHT
BEGIN:STANDARD
TZOFFSETFROM:+0200
TZOFFSETTO:+0100
TZNAME:CET
DTSTART:20271031T010000
END:STANDARD
END:VTIMEZONE
BEGIN:VEVENT
DTSTART;TZID=Europe/Berlin:20260420T200000
DTEND;TZID=Europe/Berlin:20260420T220000
DTSTAMP:20260426T053031
CREATED:20260303T085729Z
LAST-MODIFIED:20260309T202410Z
UID:5849-1776715200-1776722400@tsvbergfeld.de
SUMMARY:TT: SV Triangel  - 2. Herren (SVP)
DESCRIPTION:
URL:https://tsvbergfeld.de/event/tt-sv-triangel-2-herren-spv/
CATEGORIES:Tischtennis
END:VEVENT
END:VCALENDAR